BEGIN:VCALENDAR
VERSION:2.0
PRODID:-//::Axenda cultural AELG:: - ECPv6.6.4.2//NONSGML v1.0//EN
CALSCALE:GREGORIAN
METHOD:PUBLISH
X-ORIGINAL-URL:https://axendacultural.aelg.gal
X-WR-CALDESC:Events for ::Axenda cultural AELG::
REFRESH-INTERVAL;VALUE=DURATION:PT1H
X-Robots-Tag:noindex
X-PUBLISHED-TTL:PT1H
BEGIN:VTIMEZONE
TZID:Asia/Krasnoyarsk
BEGIN:STANDARD
TZOFFSETFROM:+0700
TZOFFSETTO:+0700
TZNAME:+07
DTSTART:20250101T000000
END:STANDARD
END:VTIMEZONE
BEGIN:VEVENT
DTSTART;TZID=Asia/Krasnoyarsk:20251107T193000
DTEND;TZID=Asia/Krasnoyarsk:20251107T210000
DTSTAMP:20260420T053232
CREATED:20251105T175810Z
LAST-MODIFIED:20251105T181316Z
UID:109692-1762543800-1762549200@axendacultural.aelg.gal
SUMMARY:Presentación de As almas da fisterranía\, de Modesto Fraga
DESCRIPTION:
URL:https://axendacultural.aelg.gal/event/presentacion-de-as-almas-da-fisterrania-de-modesto-fraga/
LOCATION:Biblioteca Pública Municipal “Francisco Mayán” (Casa da Cultura)\, Biblioteca Pública Municipal Francisco Mayán (Casa da Cultura)\, Cee
CATEGORIES:Ensaio,Presentación de libros
END:VEVENT
BEGIN:VEVENT
DTSTART;TZID=Asia/Krasnoyarsk:20251114T200000
DTEND;TZID=Asia/Krasnoyarsk:20251114T213000
DTSTAMP:20260420T053232
CREATED:20251110T214416Z
LAST-MODIFIED:20251110T214844Z
UID:110018-1763150400-1763155800@axendacultural.aelg.gal
SUMMARY:Presentación de Crónica dos Campamentos do Val de Barcala\, de Francisco Villaverde e César Ramos
DESCRIPTION:
URL:https://axendacultural.aelg.gal/event/presentacion-de-cronica-dos-campamentos-do-val-de-barcala-de-francisco-villaverde-e-cesar-ramos/
LOCATION:Libraría Pedreira\, Libraría Pedreira\, Santiago de Compostela
CATEGORIES:Divulgación,Presentación de libros
END:VEVENT
BEGIN:VEVENT
DTSTART;TZID=Asia/Krasnoyarsk:20251124T200000
DTEND;TZID=Asia/Krasnoyarsk:20251124T213000
DTSTAMP:20260420T053232
CREATED:20251123T185604Z
LAST-MODIFIED:20251123T185604Z
UID:111169-1764014400-1764019800@axendacultural.aelg.gal
SUMMARY:Presentación de Cuán Lonxe\, Cánto! O legado poético de Sir John Moore
DESCRIPTION:
URL:https://axendacultural.aelg.gal/event/presentacion-de-cuan-lonxe-canto-o-legado-poetico-de-sir-john-moore/
LOCATION:Agrupación Cultural Alexandre Bóveda\, Asociación Cultural Alexandre Bóveda\, A Coruña
CATEGORIES:Poesía,Presentación de libros,Tradución
END:VEVENT
END:VCALENDAR