BEGIN:VCALENDAR
VERSION:2.0
PRODID:-//::Axenda cultural AELG:: - ECPv6.6.4.2//NONSGML v1.0//EN
CALSCALE:GREGORIAN
METHOD:PUBLISH
X-WR-CALNAME:::Axenda cultural AELG::
X-ORIGINAL-URL:https://axendacultural.aelg.gal
X-WR-CALDESC:Events for ::Axenda cultural AELG::
REFRESH-INTERVAL;VALUE=DURATION:PT1H
X-Robots-Tag:noindex
X-PUBLISHED-TTL:PT1H
BEGIN:VTIMEZONE
TZID:Asia/Krasnoyarsk
BEGIN:STANDARD
TZOFFSETFROM:+0700
TZOFFSETTO:+0700
TZNAME:+07
DTSTART:20250101T000000
END:STANDARD
END:VTIMEZONE
BEGIN:VEVENT
DTSTART;TZID=Asia/Krasnoyarsk:20251205T180000
DTEND;TZID=Asia/Krasnoyarsk:20251205T193000
DTSTAMP:20260420T034022
CREATED:20251203T221154Z
LAST-MODIFIED:20251207T221442Z
UID:112020-1764957600-1764963000@axendacultural.aelg.gal
SUMMARY:Contacontos e presentación de As aventuras de Joe e Fonte\, de Aurora Corbacho e Chimay\, en Salceda de Caselas
DESCRIPTION:
URL:https://axendacultural.aelg.gal/event/contacontos-e-presentacion-de-as-aventuras-de-joe-e-fonte-de-aurora-corbacho-e-chimay-en-salceda-de-caselas/
LOCATION:Libraría Lemos (Salceda de Caselas)\, Librería Lemos\, Salceda de Caselas
CATEGORIES:Contacontos,Infantil e xuvenil,Narrativa,Presentación de libros
END:VEVENT
BEGIN:VEVENT
DTSTART;TZID=Asia/Krasnoyarsk:20251210T200000
DTEND;TZID=Asia/Krasnoyarsk:20251210T210000
DTSTAMP:20260420T034022
CREATED:20251204T134111Z
LAST-MODIFIED:20251204T134127Z
UID:111871-1765396800-1765400400@axendacultural.aelg.gal
SUMMARY:Presentación de O eco das ondas\, de César Morán\, na Coruña
DESCRIPTION:
URL:https://axendacultural.aelg.gal/event/presentacion-de-o-eco-das-ondas-de-cesar-moran-na-coruna/
LOCATION:Amigos dos Museos de Galicia – Portas Ártabras\, Amigos dos Museos de Galicia - Portas Ártabras\, A Coruña
CATEGORIES:Coloquios,Ensaio,Música,Presentación de libros
END:VEVENT
BEGIN:VEVENT
DTSTART;TZID=Asia/Krasnoyarsk:20251212T190000
DTEND;TZID=Asia/Krasnoyarsk:20251212T203000
DTSTAMP:20260420T034022
CREATED:20251211T162148Z
LAST-MODIFIED:20251214T162204Z
UID:112324-1765566000-1765571400@axendacultural.aelg.gal
SUMMARY:Presentación de A liberdade do cazador\, de Diego Ares\, na Coruña
DESCRIPTION:
URL:https://axendacultural.aelg.gal/event/presentacion-de-a-liberdade-do-cazador-de-diego-ares-na-coruna/
LOCATION:Libraría Hoboken\, HOBOKEN\, A Coruña
CATEGORIES:Narrativa,Presentación de libros
END:VEVENT
BEGIN:VEVENT
DTSTART;TZID=Asia/Krasnoyarsk:20251223T193000
DTEND;TZID=Asia/Krasnoyarsk:20251223T203000
DTSTAMP:20260420T034022
CREATED:20251219T192905Z
LAST-MODIFIED:20251219T192925Z
UID:112420-1766518200-1766521800@axendacultural.aelg.gal
SUMMARY:Conferencia de Mohamed Safa\, autor de Gaza. Un xenocidio televisado\, na Coruña
DESCRIPTION:
URL:https://axendacultural.aelg.gal/event/conferencia-de-mohamed-safa-autor-de-gaza-un-xenocidio-televisado-na-coruna/
LOCATION:Agrupación Cultural Alexandre Bóveda\, Asociación Cultural Alexandre Bóveda\, A Coruña
CATEGORIES:Conferencias,Internacional,Sociedade
END:VEVENT
BEGIN:VEVENT
DTSTART;TZID=Asia/Krasnoyarsk:20251227T120000
DTEND;TZID=Asia/Krasnoyarsk:20251227T133000
DTSTAMP:20260420T034022
CREATED:20251219T192435Z
LAST-MODIFIED:20251219T192443Z
UID:112413-1766836800-1766842200@axendacultural.aelg.gal
SUMMARY:Presentación de O eco das ondas\, con César Morán\, na Coruña
DESCRIPTION:
URL:https://axendacultural.aelg.gal/event/presentacion-de-o-eco-das-ondas-con-cesar-moran-na-coruna/
LOCATION:Libraría Sisargas (A Coruña)\, Librería Sisargas\, A Coruña
CATEGORIES:Ensaio,Música,Presentación de libros
END:VEVENT
END:VCALENDAR