BEGIN:VCALENDAR
VERSION:2.0
PRODID:-//::Axenda cultural AELG:: - ECPv6.6.4.2//NONSGML v1.0//EN
CALSCALE:GREGORIAN
METHOD:PUBLISH
X-WR-CALNAME:::Axenda cultural AELG::
X-ORIGINAL-URL:https://axendacultural.aelg.gal
X-WR-CALDESC:Events for ::Axenda cultural AELG::
REFRESH-INTERVAL;VALUE=DURATION:PT1H
X-Robots-Tag:noindex
X-PUBLISHED-TTL:PT1H
BEGIN:VTIMEZONE
TZID:Asia/Krasnoyarsk
BEGIN:STANDARD
TZOFFSETFROM:+0700
TZOFFSETTO:+0700
TZNAME:+07
DTSTART:20260101T000000
END:STANDARD
END:VTIMEZONE
BEGIN:VEVENT
DTSTART;TZID=Asia/Krasnoyarsk:20260107T190000
DTEND;TZID=Asia/Krasnoyarsk:20260107T203000
DTSTAMP:20260420T015518
CREATED:20260105T101015Z
LAST-MODIFIED:20260105T101015Z
UID:112803-1767812400-1767817800@axendacultural.aelg.gal
SUMMARY:César Morán presenta O eco das ondas\, en Mondoñedo
DESCRIPTION:
URL:https://axendacultural.aelg.gal/event/cesar-moran-presenta-o-eco-das-ondas-en-mondonedo/
LOCATION:Concello de Mondoñedo\, Concello de Mondoñedo\, Mondoñedo
CATEGORIES:Ensaio,Música,Presentación de libros
END:VEVENT
BEGIN:VEVENT
DTSTART;TZID=Asia/Krasnoyarsk:20260111T123000
DTEND;TZID=Asia/Krasnoyarsk:20260111T140000
DTSTAMP:20260420T015518
CREATED:20260102T163754Z
LAST-MODIFIED:20260102T163941Z
UID:112775-1768134600-1768140000@axendacultural.aelg.gal
SUMMARY:Presentación de Ríos de mosaicos\, de Ramón Torrado Romero\, en Araño (Rianxo)
DESCRIPTION:
URL:https://axendacultural.aelg.gal/event/presentacion-de-rios-de-mosaicos-de-ramon-torrado-romero-en-arano-rianxo/
CATEGORIES:Música,Narrativa,Presentación de libros
END:VEVENT
BEGIN:VEVENT
DTSTART;TZID=Asia/Krasnoyarsk:20260115T193000
DTEND;TZID=Asia/Krasnoyarsk:20260115T203000
DTSTAMP:20260420T015518
CREATED:20260108T092959Z
LAST-MODIFIED:20260108T092959Z
UID:112822-1768505400-1768509000@axendacultural.aelg.gal
SUMMARY:Conferencia de Mohamed Safa\, autor de Gaza. Un xenocidio televisado\, en Vigo
DESCRIPTION:
URL:https://axendacultural.aelg.gal/event/conferencia-de-mohamed-safa-autor-de-gaza-un-xenocidio-televisado-en-vigo/
CATEGORIES:Conferencias,Internacional
END:VEVENT
BEGIN:VEVENT
DTSTART;TZID=Asia/Krasnoyarsk:20260123T193000
DTEND;TZID=Asia/Krasnoyarsk:20260123T210000
DTSTAMP:20260420T015518
CREATED:20260121T215906Z
LAST-MODIFIED:20260124T220024Z
UID:113319-1769196600-1769202000@axendacultural.aelg.gal
SUMMARY:Presentación de Anaquiños\, de Raquel Catalán\, en Marín
DESCRIPTION:
URL:https://axendacultural.aelg.gal/event/presentacion-de-anaquinos-de-raquel-catalan-en-marin/
LOCATION:Museo Municipal Manuel Torres\, Museo Municipal Manuel Torres\, Marín
CATEGORIES:Narrativa,Presentación de libros
END:VEVENT
BEGIN:VEVENT
DTSTART;TZID=Asia/Krasnoyarsk:20260129T193000
DTEND;TZID=Asia/Krasnoyarsk:20260129T210000
DTSTAMP:20260420T015518
CREATED:20260128T151532Z
LAST-MODIFIED:20260129T151652Z
UID:113590-1769715000-1769720400@axendacultural.aelg.gal
SUMMARY:Presentación de Non son modos\, de J. L. Graña Muíño\, en Miño
DESCRIPTION:
URL:https://axendacultural.aelg.gal/event/presentacion-de-non-son-modos-de-j-l-grana-muino-en-mino/
LOCATION:Centro Social da Rúa (Miño)\, Centro Social de A Rúa\, Miño
CATEGORIES:Presentación de libros,Teatro,Teatro en escena
END:VEVENT
BEGIN:VEVENT
DTSTART;TZID=Asia/Krasnoyarsk:20260130T200000
DTEND;TZID=Asia/Krasnoyarsk:20260130T213000
DTSTAMP:20260420T015518
CREATED:20260124T214656Z
LAST-MODIFIED:20260124T214716Z
UID:113301-1769803200-1769808600@axendacultural.aelg.gal
SUMMARY:Presentación de Crónica dos Campamentos do Val de Barcala\, de Francisco Villaverde e César Ramos\, en Compostela
DESCRIPTION:
URL:https://axendacultural.aelg.gal/event/presentacion-de-cronica-dos-campamentos-do-val-de-barcala-de-francisco-villaverde-e-cesar-ramos-en-compostela/
LOCATION:Libraría Pedreira\, Libraría Pedreira\, Santiago de Compostela
CATEGORIES:Divulgación,Presentación de libros
END:VEVENT
END:VCALENDAR