BEGIN:VCALENDAR
VERSION:2.0
PRODID:-//::Axenda cultural AELG:: - ECPv6.6.4.2//NONSGML v1.0//EN
CALSCALE:GREGORIAN
METHOD:PUBLISH
X-ORIGINAL-URL:https://axendacultural.aelg.gal
X-WR-CALDESC:Events for ::Axenda cultural AELG::
REFRESH-INTERVAL;VALUE=DURATION:PT1H
X-Robots-Tag:noindex
X-PUBLISHED-TTL:PT1H
BEGIN:VTIMEZONE
TZID:Asia/Krasnoyarsk
BEGIN:STANDARD
TZOFFSETFROM:+0700
TZOFFSETTO:+0700
TZNAME:+07
DTSTART:20260101T000000
END:STANDARD
END:VTIMEZONE
BEGIN:VEVENT
DTSTART;TZID=Asia/Krasnoyarsk:20260123T193000
DTEND;TZID=Asia/Krasnoyarsk:20260123T210000
DTSTAMP:20260420T035310
CREATED:20260121T215906Z
LAST-MODIFIED:20260124T220024Z
UID:113319-1769196600-1769202000@axendacultural.aelg.gal
SUMMARY:Presentación de Anaquiños\, de Raquel Catalán\, en Marín
DESCRIPTION:
URL:https://axendacultural.aelg.gal/event/presentacion-de-anaquinos-de-raquel-catalan-en-marin/
LOCATION:Museo Municipal Manuel Torres\, Museo Municipal Manuel Torres\, Marín
CATEGORIES:Narrativa,Presentación de libros
END:VEVENT
END:VCALENDAR