BEGIN:VCALENDAR
VERSION:2.0
PRODID:-//::Axenda cultural AELG:: - ECPv6.6.4.2//NONSGML v1.0//EN
CALSCALE:GREGORIAN
METHOD:PUBLISH
X-ORIGINAL-URL:https://axendacultural.aelg.gal
X-WR-CALDESC:Events for ::Axenda cultural AELG::
REFRESH-INTERVAL;VALUE=DURATION:PT1H
X-Robots-Tag:noindex
X-PUBLISHED-TTL:PT1H
BEGIN:VTIMEZONE
TZID:Asia/Krasnoyarsk
BEGIN:STANDARD
TZOFFSETFROM:+0700
TZOFFSETTO:+0700
TZNAME:+07
DTSTART:20260101T000000
END:STANDARD
END:VTIMEZONE
BEGIN:VEVENT
DTSTART;TZID=Asia/Krasnoyarsk:20260219T193000
DTEND;TZID=Asia/Krasnoyarsk:20260219T210000
DTSTAMP:20260420T020225
CREATED:20260212T092418Z
LAST-MODIFIED:20260212T092418Z
UID:114134-1771529400-1771534800@axendacultural.aelg.gal
SUMMARY:Recital na A. C. Alexandre Bóveda arredor do libro Poetas na Cociña VI\, na Coruña
DESCRIPTION:
URL:https://axendacultural.aelg.gal/event/recital-na-a-c-alexandre-boveda-arredor-do-libro-poetas-na-cocina-vi-na-coruna/
LOCATION:Agrupación Cultural Alexandre Bóveda\, Asociación Cultural Alexandre Bóveda\, A Coruña
CATEGORIES:Poesía,Recitais
END:VEVENT
END:VCALENDAR