BEGIN:VCALENDAR
VERSION:2.0
PRODID:-//::Axenda cultural AELG:: - ECPv6.6.4.2//NONSGML v1.0//EN
CALSCALE:GREGORIAN
METHOD:PUBLISH
X-ORIGINAL-URL:https://axendacultural.aelg.gal
X-WR-CALDESC:Events for ::Axenda cultural AELG::
REFRESH-INTERVAL;VALUE=DURATION:PT1H
X-Robots-Tag:noindex
X-PUBLISHED-TTL:PT1H
BEGIN:VTIMEZONE
TZID:Asia/Krasnoyarsk
BEGIN:STANDARD
TZOFFSETFROM:+0700
TZOFFSETTO:+0700
TZNAME:+07
DTSTART:20250101T000000
END:STANDARD
END:VTIMEZONE
BEGIN:VEVENT
DTSTART;TZID=Asia/Krasnoyarsk:20251202T190000
DTEND;TZID=Asia/Krasnoyarsk:20251202T203000
DTSTAMP:20260424T174518
CREATED:20251201T190424Z
LAST-MODIFIED:20251201T190505Z
UID:111694-1764702000-1764707400@axendacultural.aelg.gal
SUMMARY:Inauguración da exposición A semente de vencer\, en Vigo
DESCRIPTION:
URL:https://axendacultural.aelg.gal/event/inauguracion-da-exposicion-a-semente-de-vencer-en-vigo/
LOCATION:RioLagares\, RioLagares\, Vigo
CATEGORIES:Arte,Exposicións
END:VEVENT
END:VCALENDAR