BEGIN:VCALENDAR
VERSION:2.0
PRODID:-//::Axenda cultural AELG:: - ECPv6.6.4.2//NONSGML v1.0//EN
CALSCALE:GREGORIAN
METHOD:PUBLISH
X-WR-CALNAME:::Axenda cultural AELG::
X-ORIGINAL-URL:https://axendacultural.aelg.gal
X-WR-CALDESC:Events for ::Axenda cultural AELG::
REFRESH-INTERVAL;VALUE=DURATION:PT1H
X-Robots-Tag:noindex
X-PUBLISHED-TTL:PT1H
BEGIN:VTIMEZONE
TZID:Asia/Krasnoyarsk
BEGIN:STANDARD
TZOFFSETFROM:+0700
TZOFFSETTO:+0700
TZNAME:+07
DTSTART:20250101T000000
END:STANDARD
END:VTIMEZONE
BEGIN:VEVENT
DTSTART;TZID=Asia/Krasnoyarsk:20251226T180000
DTEND;TZID=Asia/Krasnoyarsk:20251226T193000
DTSTAMP:20260425T053904
CREATED:20251221T212101Z
LAST-MODIFIED:20251221T212112Z
UID:112480-1766772000-1766777400@axendacultural.aelg.gal
SUMMARY:Presentación do libro-disco O Dentista Musical\, con Pablo Varela\, na Coruña
DESCRIPTION:
URL:https://axendacultural.aelg.gal/event/presentacion-do-libro-disco-o-dentista-musical-con-pablo-varela-na-coruna/
LOCATION:Asociación Veciñal da Agra do Orzán da Coruña\, Asociación de Vecinos Agra do Orzán\, A Coruña
CATEGORIES:Infantil e xuvenil,Música,Presentación de libros
END:VEVENT
END:VCALENDAR