BEGIN:VCALENDAR
VERSION:2.0
PRODID:-//::Axenda cultural AELG:: - ECPv6.6.4.2//NONSGML v1.0//EN
CALSCALE:GREGORIAN
METHOD:PUBLISH
X-WR-CALNAME:::Axenda cultural AELG::
X-ORIGINAL-URL:https://axendacultural.aelg.gal
X-WR-CALDESC:Events for ::Axenda cultural AELG::
REFRESH-INTERVAL;VALUE=DURATION:PT1H
X-Robots-Tag:noindex
X-PUBLISHED-TTL:PT1H
BEGIN:VTIMEZONE
TZID:Asia/Krasnoyarsk
BEGIN:STANDARD
TZOFFSETFROM:+0700
TZOFFSETTO:+0700
TZNAME:+07
DTSTART:20250101T000000
END:STANDARD
END:VTIMEZONE
BEGIN:VEVENT
DTSTART;TZID=Asia/Krasnoyarsk:20251111T180000
DTEND;TZID=Asia/Krasnoyarsk:20251111T193000
DTSTAMP:20260421T160804
CREATED:20251109T210244Z
LAST-MODIFIED:20251109T210356Z
UID:109857-1762884000-1762889400@axendacultural.aelg.gal
SUMMARY:Presentación de O Peculiar\, de Érica Esmorís
DESCRIPTION:
URL:https://axendacultural.aelg.gal/event/presentacion-de-o-peculiar-de-erica-esmoris/
LOCATION:Libraría Galgo Azul\, Galgo Azul (Libros\, grolos e moito máis)\, A Coruña
CATEGORIES:Infantil e xuvenil,Narrativa,Presentación de libros
END:VEVENT
BEGIN:VEVENT
DTSTART;TZID=Asia/Krasnoyarsk:20251115T180000
DTEND;TZID=Asia/Krasnoyarsk:20251115T193000
DTSTAMP:20260421T160804
CREATED:20251110T175326Z
LAST-MODIFIED:20251110T175431Z
UID:109944-1763229600-1763235000@axendacultural.aelg.gal
SUMMARY:Presentación de A panadería\, de Lucía Belarte e David Lorenzo
DESCRIPTION:
URL:https://axendacultural.aelg.gal/event/presentacion-de-a-panaderia-de-lucia-belarte-e-david-lorenzo/
LOCATION:Libraría Galgo Azul\, Galgo Azul (Libros\, grolos e moito máis)\, A Coruña
CATEGORIES:Ilustración,Infantil e xuvenil,Narrativa,Presentación de libros
END:VEVENT
BEGIN:VEVENT
DTSTART;TZID=Asia/Krasnoyarsk:20251122T123000
DTEND;TZID=Asia/Krasnoyarsk:20251122T140000
DTSTAMP:20260421T160804
CREATED:20251119T102836Z
LAST-MODIFIED:20251119T102836Z
UID:110734-1763814600-1763820000@axendacultural.aelg.gal
SUMMARY:Presentación de Eira\, de Sara Martínez Bello
DESCRIPTION:
URL:https://axendacultural.aelg.gal/event/presentacion-de-eira-de-sara-martinez-bello/
LOCATION:Libraría Galgo Azul\, Galgo Azul (Libros\, grolos e moito máis)\, A Coruña
CATEGORIES:Coloquios,Poesía,Presentación de libros
END:VEVENT
END:VCALENDAR