BEGIN:VCALENDAR
VERSION:2.0
PRODID:-//::Axenda cultural AELG:: - ECPv6.6.4.2//NONSGML v1.0//EN
CALSCALE:GREGORIAN
METHOD:PUBLISH
X-WR-CALNAME:::Axenda cultural AELG::
X-ORIGINAL-URL:https://axendacultural.aelg.gal
X-WR-CALDESC:Events for ::Axenda cultural AELG::
REFRESH-INTERVAL;VALUE=DURATION:PT1H
X-Robots-Tag:noindex
X-PUBLISHED-TTL:PT1H
BEGIN:VTIMEZONE
TZID:Asia/Krasnoyarsk
BEGIN:STANDARD
TZOFFSETFROM:+0700
TZOFFSETTO:+0700
TZNAME:+07
DTSTART:20250101T000000
END:STANDARD
END:VTIMEZONE
BEGIN:VEVENT
DTSTART;TZID=Asia/Krasnoyarsk:20251204T200000
DTEND;TZID=Asia/Krasnoyarsk:20251204T213000
DTSTAMP:20260421T124105
CREATED:20251127T100211Z
LAST-MODIFIED:20251127T100211Z
UID:111454-1764878400-1764883800@axendacultural.aelg.gal
SUMMARY:Presentación de A agonía das folerpas\, de Óscar Reboiras Loureiro\, no Carballiño
DESCRIPTION:
URL:https://axendacultural.aelg.gal/event/presentacion-de-a-agonia-das-folerpas-de-oscar-reboiras-loureiro-no-carballino/
LOCATION:OZOCOgz (O Carballiño)\, OZOCOgz Deseño Galego\, O Carballiño
CATEGORIES:Narrativa,Presentación de libros
END:VEVENT
BEGIN:VEVENT
DTSTART;TZID=Asia/Krasnoyarsk:20251211T190000
DTEND;TZID=Asia/Krasnoyarsk:20251211T203000
DTSTAMP:20260421T124105
CREATED:20251207T235714Z
LAST-MODIFIED:20251207T235735Z
UID:112081-1765479600-1765485000@axendacultural.aelg.gal
SUMMARY:Presentación de Castelao. Entre Nós\, 75 anos despois e Os soños de Daniel\, de Paco López-Barxas\, no Carballiño
DESCRIPTION:
URL:https://axendacultural.aelg.gal/event/presentacion-de-castelao-entre-nos-75-anos-despois-e-os-sonos-de-daniel-de-paco-lopez-barxas-no-carballino/
LOCATION:OZOCOgz (O Carballiño)\, OZOCOgz Deseño Galego\, O Carballiño
CATEGORIES:Divulgación,Presentación de libros
END:VEVENT
BEGIN:VEVENT
DTSTART;TZID=Asia/Krasnoyarsk:20251212T201500
DTEND;TZID=Asia/Krasnoyarsk:20251212T213000
DTSTAMP:20260421T124105
CREATED:20251202T173751Z
LAST-MODIFIED:20251210T172403Z
UID:111789-1765570500-1765575000@axendacultural.aelg.gal
SUMMARY:Presentación de Castelao\, desta terra e deste tempo\, de Manuel Rei Romeu\, en Ribadavia
DESCRIPTION:
URL:https://axendacultural.aelg.gal/event/presentacion-de-castelao-desta-terra-e-deste-tempo-de-manuel-rei-romeu-en-ribadavia/
LOCATION:Cafetería La huella del gato\, La huella del gato\, Ribadavia
CATEGORIES:Ensaio,Presentación de libros
END:VEVENT
BEGIN:VEVENT
DTSTART;TZID=Asia/Krasnoyarsk:20251213T123000
DTEND;TZID=Asia/Krasnoyarsk:20251213T140000
DTSTAMP:20260421T124105
CREATED:20251207T235221Z
LAST-MODIFIED:20251207T235221Z
UID:112073-1765629000-1765634400@axendacultural.aelg.gal
SUMMARY:Presentación de A corazón aberto. Aprendendo a ser\, de Carmen Penim\, no Carballiño
DESCRIPTION:
URL:https://axendacultural.aelg.gal/event/presentacion-de-a-corazon-aberto-aprendendo-a-ser-de-carmen-penim-no-carballino/
LOCATION:OZOCOgz (O Carballiño)\, OZOCOgz Deseño Galego\, O Carballiño
CATEGORIES:Ensaio,Presentación de libros
END:VEVENT
END:VCALENDAR