BEGIN:VCALENDAR
VERSION:2.0
PRODID:-//::Axenda cultural AELG:: - ECPv6.6.4.2//NONSGML v1.0//EN
CALSCALE:GREGORIAN
METHOD:PUBLISH
X-ORIGINAL-URL:https://axendacultural.aelg.gal
X-WR-CALDESC:Events for ::Axenda cultural AELG::
REFRESH-INTERVAL;VALUE=DURATION:PT1H
X-Robots-Tag:noindex
X-PUBLISHED-TTL:PT1H
BEGIN:VTIMEZONE
TZID:Asia/Krasnoyarsk
BEGIN:STANDARD
TZOFFSETFROM:+0700
TZOFFSETTO:+0700
TZNAME:+07
DTSTART:20260101T000000
END:STANDARD
END:VTIMEZONE
BEGIN:VEVENT
DTSTART;TZID=Asia/Krasnoyarsk:20260313T200000
DTEND;TZID=Asia/Krasnoyarsk:20260313T213000
DTSTAMP:20260421T055519
CREATED:20260216T130155Z
LAST-MODIFIED:20260216T130155Z
UID:114323-1773432000-1773437400@axendacultural.aelg.gal
SUMMARY:Presentación de As portas condenadas\, de Jorge Emilio Bóveda\, no Carballiño
DESCRIPTION:
URL:https://axendacultural.aelg.gal/event/presentacion-de-as-portas-condenadas-de-jorge-emilio-boveda-no-carballino/
LOCATION:OZOCOgz (O Carballiño)\, OZOCOgz Deseño Galego\, O Carballiño
CATEGORIES:Narrativa,Presentación de libros
END:VEVENT
BEGIN:VEVENT
DTSTART;TZID=Asia/Krasnoyarsk:20260318T200000
DTEND;TZID=Asia/Krasnoyarsk:20260318T213000
DTSTAMP:20260421T055519
CREATED:20260311T115721Z
LAST-MODIFIED:20260311T115759Z
UID:115361-1773864000-1773869400@axendacultural.aelg.gal
SUMMARY:Presentación de O imperialismo no século XXI\, de Duarte Correa Piñeiro\, no Carballiño
DESCRIPTION:
URL:https://axendacultural.aelg.gal/event/presentacion-de-o-imperialismo-no-seculo-xxi-de-duarte-correa-pineiro-no-carballino/
LOCATION:OZOCOgz (O Carballiño)\, OZOCOgz Deseño Galego\, O Carballiño
CATEGORIES:Ensaio,Presentación de libros
END:VEVENT
BEGIN:VEVENT
DTSTART;TZID=Asia/Krasnoyarsk:20260321T123000
DTEND;TZID=Asia/Krasnoyarsk:20260321T140000
DTSTAMP:20260421T055519
CREATED:20260311T115136Z
LAST-MODIFIED:20260311T115312Z
UID:115351-1774096200-1774101600@axendacultural.aelg.gal
SUMMARY:Recital de poesía e presentación de poemarios de Comadres das Letras e María Álvarez Landesa\, no Carballiño
DESCRIPTION:
URL:https://axendacultural.aelg.gal/event/recital-de-poesia-e-presentacion-de-poemarios-de-comadres-das-letras-e-maria-alvarez-landesa-no-carballino/
LOCATION:OZOCOgz (O Carballiño)\, OZOCOgz Deseño Galego\, O Carballiño
CATEGORIES:Poesía,Presentación de libros,Recitais
END:VEVENT
BEGIN:VEVENT
DTSTART;TZID=Asia/Krasnoyarsk:20260328T123000
DTEND;TZID=Asia/Krasnoyarsk:20260328T133000
DTSTAMP:20260421T055519
CREATED:20260310T184707Z
LAST-MODIFIED:20260310T184707Z
UID:115325-1774701000-1774704600@axendacultural.aelg.gal
SUMMARY:Presentación de Trickstar. Postais desde as estrelas\, de Manuel Esteban\, no Carballiño
DESCRIPTION:
URL:https://axendacultural.aelg.gal/event/presentacion-de-trickstar-postais-desde-as-estrelas-de-manuel-esteban-no-carballino/
LOCATION:OZOCOgz (O Carballiño)\, OZOCOgz Deseño Galego\, O Carballiño
CATEGORIES:Narrativa,Presentación de libros
END:VEVENT
END:VCALENDAR