BEGIN:VCALENDAR
VERSION:2.0
PRODID:-//::Axenda cultural AELG:: - ECPv6.6.4.2//NONSGML v1.0//EN
CALSCALE:GREGORIAN
METHOD:PUBLISH
X-ORIGINAL-URL:https://axendacultural.aelg.gal
X-WR-CALDESC:Events for ::Axenda cultural AELG::
REFRESH-INTERVAL;VALUE=DURATION:PT1H
X-Robots-Tag:noindex
X-PUBLISHED-TTL:PT1H
BEGIN:VTIMEZONE
TZID:Asia/Krasnoyarsk
BEGIN:STANDARD
TZOFFSETFROM:+0700
TZOFFSETTO:+0700
TZNAME:+07
DTSTART:20260101T000000
END:STANDARD
END:VTIMEZONE
BEGIN:VEVENT
DTSTART;TZID=Asia/Krasnoyarsk:20260219T193000
DTEND;TZID=Asia/Krasnoyarsk:20260219T210000
DTSTAMP:20260424T142135
CREATED:20260213T082619Z
LAST-MODIFIED:20260213T082619Z
UID:114229-1771529400-1771534800@axendacultural.aelg.gal
SUMMARY:Palestra Viaxar para ler o mundo\, por Xesús Constela\, en Vigo
DESCRIPTION:
URL:https://axendacultural.aelg.gal/event/palestra-viaxar-para-ler-o-mundo-por-xesus-constela-en-vigo/
LOCATION:RioLagares\, RioLagares\, Vigo
CATEGORIES:Conferencias
END:VEVENT
END:VCALENDAR