BEGIN:VCALENDAR
VERSION:2.0
PRODID:-//::Axenda cultural AELG:: - ECPv6.6.4.2//NONSGML v1.0//EN
CALSCALE:GREGORIAN
METHOD:PUBLISH
X-ORIGINAL-URL:https://axendacultural.aelg.gal
X-WR-CALDESC:Events for ::Axenda cultural AELG::
REFRESH-INTERVAL;VALUE=DURATION:PT1H
X-Robots-Tag:noindex
X-PUBLISHED-TTL:PT1H
BEGIN:VTIMEZONE
TZID:Asia/Krasnoyarsk
BEGIN:STANDARD
TZOFFSETFROM:+0700
TZOFFSETTO:+0700
TZNAME:+07
DTSTART:20260101T000000
END:STANDARD
END:VTIMEZONE
BEGIN:VEVENT
DTSTART;TZID=Asia/Krasnoyarsk:20260424T200000
DTEND;TZID=Asia/Krasnoyarsk:20260424T213000
DTSTAMP:20260422T045825
CREATED:20260421T122759Z
LAST-MODIFIED:20260421T163810Z
UID:117304-1777060800-1777066200@axendacultural.aelg.gal
SUMMARY:Acto de homenaxe a Xosé Luís Franco Grande\, en Tomiño
DESCRIPTION:
URL:https://axendacultural.aelg.gal/event/acto-de-homenaxe-a-xose-luis-franco-grande-en-tomino/
LOCATION:Espazo Isaura Gómez\, Espazo Isaura Gómez\, Tomiño
CATEGORIES:Homenaxes,Poesía,Presentación de libros
END:VEVENT
END:VCALENDAR