BEGIN:VCALENDAR
VERSION:2.0
PRODID:-//::Axenda cultural AELG:: - ECPv6.6.4.2//NONSGML v1.0//EN
CALSCALE:GREGORIAN
METHOD:PUBLISH
X-WR-CALNAME:::Axenda cultural AELG::
X-ORIGINAL-URL:https://axendacultural.aelg.gal
X-WR-CALDESC:Events for ::Axenda cultural AELG::
REFRESH-INTERVAL;VALUE=DURATION:PT1H
X-Robots-Tag:noindex
X-PUBLISHED-TTL:PT1H
BEGIN:VTIMEZONE
TZID:Asia/Krasnoyarsk
BEGIN:STANDARD
TZOFFSETFROM:+0700
TZOFFSETTO:+0700
TZNAME:+07
DTSTART:20260101T000000
END:STANDARD
END:VTIMEZONE
BEGIN:VEVENT
DTSTART;TZID=Asia/Krasnoyarsk:20260423T200000
DTEND;TZID=Asia/Krasnoyarsk:20260423T213000
DTSTAMP:20260420T133025
CREATED:20260419T203513Z
LAST-MODIFIED:20260419T203757Z
UID:117122-1776974400-1776979800@axendacultural.aelg.gal
SUMMARY:Presentación de Polo avieiro de Dona Emilia\, de Carlos Méixome\, en Gondomar
DESCRIPTION:
URL:https://axendacultural.aelg.gal/event/presentacion-de-polo-avieiro-de-dona-emilia-de-carlos-meixome-en-gondomar/
LOCATION:Tapería O Cuco Gondomar\, O Cuco Gondomar\, Gondomar
CATEGORIES:Presentación de libros,Xornalismo
END:VEVENT
END:VCALENDAR