BEGIN:VCALENDAR
VERSION:2.0
PRODID:-//::Axenda cultural AELG:: - ECPv6.6.4.2//NONSGML v1.0//EN
CALSCALE:GREGORIAN
METHOD:PUBLISH
X-ORIGINAL-URL:https://axendacultural.aelg.gal
X-WR-CALDESC:Events for ::Axenda cultural AELG::
REFRESH-INTERVAL;VALUE=DURATION:PT1H
X-Robots-Tag:noindex
X-PUBLISHED-TTL:PT1H
BEGIN:VTIMEZONE
TZID:Asia/Krasnoyarsk
BEGIN:STANDARD
TZOFFSETFROM:+0700
TZOFFSETTO:+0700
TZNAME:+07
DTSTART:20260101T000000
END:STANDARD
END:VTIMEZONE
BEGIN:VEVENT
DTSTART;TZID=Asia/Krasnoyarsk:20260620T123000
DTEND;TZID=Asia/Krasnoyarsk:20260620T133000
DTSTAMP:20260422T070915
CREATED:20260421T130424Z
LAST-MODIFIED:20260421T130424Z
UID:117325-1781958600-1781962200@axendacultural.aelg.gal
SUMMARY:Tamara Andrés presenta Eu son de aquí e de alá\, nos Vermús literarios Un ronsel de historias\, en Combarro
DESCRIPTION:
URL:https://axendacultural.aelg.gal/event/tamara-andres-presenta-eu-son-de-aqui-e-de-ala-nos-vermus-literarios-un-ronsel-de-historias-en-combarro/
CATEGORIES:Narrativa,Presentación de libros
END:VEVENT
END:VCALENDAR