BEGIN:VCALENDAR
VERSION:2.0
PRODID:-//::Axenda cultural AELG:: - ECPv6.6.4.2//NONSGML v1.0//EN
CALSCALE:GREGORIAN
METHOD:PUBLISH
X-WR-CALNAME:::Axenda cultural AELG::
X-ORIGINAL-URL:https://axendacultural.aelg.gal
X-WR-CALDESC:Events for ::Axenda cultural AELG::
REFRESH-INTERVAL;VALUE=DURATION:PT1H
X-Robots-Tag:noindex
X-PUBLISHED-TTL:PT1H
BEGIN:VTIMEZONE
TZID:Asia/Krasnoyarsk
BEGIN:STANDARD
TZOFFSETFROM:+0700
TZOFFSETTO:+0700
TZNAME:+07
DTSTART:20250101T000000
END:STANDARD
END:VTIMEZONE
BEGIN:VEVENT
DTSTART;TZID=Asia/Krasnoyarsk:20251212T193000
DTEND;TZID=Asia/Krasnoyarsk:20251212T210000
DTSTAMP:20260420T103550
CREATED:20251126T205438Z
LAST-MODIFIED:20251127T100357Z
UID:111427-1765567800-1765573200@axendacultural.aelg.gal
SUMMARY:Presentación de O soño de Patti Smith\, de Xesús Trashorras\, en Castroverde
DESCRIPTION:
URL:https://axendacultural.aelg.gal/event/presentacion-de-o-sono-de-patti-smith-de-xesus-trashorras-en-castroverde/
LOCATION:Centro Sociocultural Paco Pestana de Castroverde\, Centro Sociocultural Paco Pestana de Castroverde\, Castroverde
CATEGORIES:Poesía,Presentación de libros
END:VEVENT
END:VCALENDAR